BEGIN:VCALENDAR
VERSION:2.0
PRODID:icalendar-ruby
CALSCALE:GREGORIAN
METHOD:PUBLISH
BEGIN:VEVENT
DTSTAMP:20260421T221557Z
UID:5-589608@crossroadselverson.org
DTSTART:20261101T150000Z
DTEND:20261101T160000Z
CLASS:PUBLIC
CREATED:20260421T174310
DESCRIPTION:Sunday Worship
LAST-MODIFIED:20260421T174310
LOCATION:
SUMMARY:Sunday Worship
URL;VALUE=URI:https://www.crossroadselverson.org/events/sunday-worship/2026
 -11-01
END:VEVENT
END:VCALENDAR
