BEGIN:VCALENDAR
VERSION:2.0
PRODID:icalendar-ruby
CALSCALE:GREGORIAN
METHOD:PUBLISH
BEGIN:VEVENT
DTSTAMP:20260421T191146Z
UID:5-589217@crossroadselverson.org
DTSTART:20261018T140000Z
DTEND:20261018T150000Z
CLASS:PUBLIC
CREATED:20260421T150603
DESCRIPTION:Sunday Worship
LAST-MODIFIED:20260421T150603
LOCATION:
SUMMARY:Sunday Worship
URL;VALUE=URI:https://www.crossroadselverson.org/events/sunday-worship/2026
 -10-18
END:VEVENT
END:VCALENDAR
