BEGIN:VCALENDAR
VERSION:2.0
PRODID:icalendar-ruby
CALSCALE:GREGORIAN
METHOD:PUBLISH
BEGIN:VEVENT
DTSTAMP:20260421T162714Z
UID:5-588437@crossroadselverson.org
DTSTART:20261004T140000Z
DTEND:20261004T150000Z
CLASS:PUBLIC
CREATED:20260421T095015
DESCRIPTION:Sunday Worship
LAST-MODIFIED:20260421T095015
LOCATION:
SUMMARY:Sunday Worship
URL;VALUE=URI:https://www.crossroadselverson.org/events/sunday-worship/2026
 -10-04
END:VEVENT
END:VCALENDAR
